BEGIN:VCALENDAR
VERSION:2.0
PRODID:-//Squarespace Inc/Squarespace 6//v6//EN
BEGIN:VEVENT
UID:5b70d3af21c67c133d138ac1@squarespace.com
DTSTAMP:20180813T004304Z
DTSTART:20180813T010000Z
DTEND:20180813T020000Z
SUMMARY:Manage my Health patient Portal
END:VEVENT
END:VCALENDAR
